Workbook

Sheet 목록
B2: TABLE NAME
B3: 1-1. 전국 장애인 유형별 등급별 현황 | C3: 38
B4: 1-2. 시도 장애인 유형별 등급별 현황 | C4: 44
B5: 2-1. 전국 연령별 장애인 등급별 현황 | C5: 40 | D5: ■ 2014년 12월말 기준
B6: 2-2. 시도 연령별 장애인 등급별 현황 | C6: 41 | D6: 전국등록장애인 | E6: 2494460
B7: 2-3. 시군구 장애인 연령별 등급별 현황 | C7: 48
B8: 3-1. 전국 장애인 연령별 유형별 현황 | C8: 42
B9: 3-2. 시도 장애인 연령별 유형별 현황 | C9: 43
B10: 3-3. 시군구 장애인 연령별 유형별 현황 | C10: 49
B11: 3-4. 시도 장애인 유형별 현황 | C11: 37
B12: 4-1. 장애인 유형에 대한 시도 등급별 현황 | C12: 39
B13: 4-2. 장애인 유형에 대한 시군구 등급별 현황 | C13: 50
B14: 4-3. 장애인 유형에 대한 시도 장애인 연령별 등급별 현황 | C14: 45
B15: 4-4. 전국 5세 간격 장애인 등급별 현황 | C15: 51
B16: 4-5. 전국 장애유형에 대한 장애인 연령별 등급별 현황 | C16: 46
B17: 5-1. 장애등급에 대한 시도 장애인 유형별 현황 | C17: 47
B18: 5-2. 장애등급에 대한 시군구 장애인 유형별 현황 | C18: 52
... B24: 15. 경상남도, 경상북도, 제주특별자치도 시군구 장애등급에 대한 장애인 연령별 유형별 현황 | C24: 58

Sheet 1-1. 전국 장애인(유형 등급)현황
A1: 전국 장애인 유형별, 등급별 현황
A2: (2014년 12월) | AA2: 1-3급 | AB2: (연금확대인원) | AD2: =AD4-AD5 -> 393478 | AF2: =AB9-AD5 -> 1912352
V4: 페이지 : 1 / 1 | Z4: 전체장애연급대상 | AB4: 3급확대시 | AD4: ='2-1.전국 연령별장애인(등급)현황'!J128 -> 902391 | AE4: =AD4/Z9 -> 0.36175806 | AF4: 3급(18세이상) | AH4: ='2-1.전국 연령별장애인(등급)현황'!J127 -> 411478 | AJ4: 1,2급(18세이상 | AL4: ='2-1.전국 연령별장애인(등급)현황'!G128 -> 490913 | AM4: =AL4/Z9 -> 0.19680131
V5: (단위: 명) | Z5: 전체장애연금 대상 | AB5: (1,2급+중복3급 | AD5: ='2-1.전국 연령별장애인(등급)현황'!J130 -> 508913 | AE5: =AD5/Z9 -> 0.2040173 | AF5: 3급중복(18세이상) | AH5: 18000
A7: 장애유형 | B7: 합 계 | E7: 1급 | H7: 2급 | K7: 3급 | N7: 4급 | R7: 5급 | U7: 6급
B8: 남 | C8: 여 | D8: 합계 | E8: 남 | F8: 여 | G8: 합계 | H8: 남 | I8: 여 | J8: 합계 | K8: 남 | L8: 여 | M8: 합계 | N8: 남 | O8: 여 | P8: 합계 | R8: 남 | S8: 여 | T8: 합계 | U8: 남 | V8: 여 | W8: 합계 | Y8: 유형 | Z8: 전체 | AA8: (비율) | AB8: 18세이상 | AC8: (비율) | AD8: (1~3급) | AE8: 비율 | AF8: 18세이상 | AG8: (비율) | AH8: (4~6급) | AI8: 비율 | AJ8: 18세이상 | AK8: (비율)
A9: 합계 | B9: =SUM(E9,H9,K9,N9,R9,U9) -> 1448878 | C9: =SUM(F9,I9,L9,O9,S9,V9) -> 1045582 | D9: 2494460 | E9: 116329 | F9: 82624 | G9: 198953 | H9: 195129 | I9: 140487 | J9: 335616 | K9: 264274 | L9: 167623 | M9: 431897 | N9: 189893 | O9: 184515 | P9: 374408 | R9: 278269 | S9: 246421 | T9: 524690 | U9: 404984 | V9: 223912 | W9: 628896 | Y9: 합계 | Z9: 2494460 | AA9: =SUM(AA10:AA24) -> 1 | AB9: ='3-1.전국 연령별 장애인(유형) 현황'!AV28 -> 2421265 | AC9: =AB9/Z9 -> 0.97065698 | AD9: =D9-AH9 -> 966466 | AE9: =AD9/D9 -> 0.38744498 | AF9: ='2-1.전국 연령별장애인(등급)현황'!J128 -> 902391 | AG9: =AF9/Z9 -> 0.36175806 | AH9: =SUM(W9,T9,P9) -> 1527994 | AI9: =AH9/D9 -> 0.61255502 | AJ9: =AD9-AF9 -> 64075 | AK9: =AJ9/AD9 -> 0.066298245
A10: 지체 | B10: =SUM(E10,H10,K10,N10,R10,U10) -> 749259 | C10: =SUM(F10,I10,L10,O10,S10,V10) -> 546349 | D10: 1295608 | E10: 23635 | F10: 11703 | G10: 35338 | H10: 45170 | I10: 24705 | J10: 69875 | K10: 104792 | L10: 53156 | M10: 157948 | N10: 119549 | O10: 132796 | P10: 252345 | R10: 196429 | S10: 185235 | T10: 381664 | U10: 259684 | V10: 138754 | W10: 398438 | Y10: 지체 | Z10: 1295608 | AA10: =Z10/Z9 -> 0.51939418 | AB10: ='3-1.전국 연령별 장애인(유형) 현황'!D127 -> 1291252 | AC10: =AB10/Z10 -> 0.99663787 | AD10: =D10-AH10 -> 263161 | AE10: =AD10/D10 -> 0.20311776 | AH10: =SUM(W10,T10,P10) -> 1032447 | AI10: =AH10/D10 -> 0.79688224
A11: 시각 | B11: =SUM(E11,H11,K11,N11,R11,U11) -> 150843 | C11: =SUM(F11,I11,L11,O11,S11,V11) -> 101982 | D11: 252825 | E11: 16438 | F11: 15714 | G11: 32152 | H11: 3503 | I11: 3679 | J11: 7182 | K11: 6108 | L11: 5957 | M11: 12065 | N11: 6898 | O11: 6652 | P11: 13550 | R11: 11733 | S11: 9437 | T11: 21170 | U11: 106163 | V11: 60543 | W11: 166706 | Y11: 시각 | Z11: 252825 | AA11: =Z11/Z9 -> 0.1013546 | AB11: ='3-1.전국 연령별 장애인(유형) 현황'!G127 -> 249907 | AC11: =AB11/Z11 -> 0.98845842 | AD11: =D11-AH11 -> 51399 | AE11: =AD11/D11 -> 0.20329872 | AH11: =SUM(W11,T11,P11) -> 201426 | AI11: =AH11/D11 -> 0.79670128
A12: 청각 | B12: =SUM(E12,H12,K12,N12,R12,U12) -> 138356 | C12: =SUM(F12,I12,L12,O12,S12,V12) -> 114423 | D12: 252779 | E12: 3699 | F12: 3041 | G12: 6740 | H12: 24158 | I12: 21913 | J12: 46071 | K12: 23321 | L12: 18312 | M12: 41633 | N12: 30412 | O12: 24807 | P12: 55219 | R12: 34374 | S12: 29799 | T12: 64173 | U12: 22392 | V12: 16551 | W12: 38943 | Y12: 청각 | Z12: 252779 | AA12: =Z12/Z9 -> 0.10133616 | AB12: ='3-1.전국 연령별 장애인(유형) 현황'!J127 -> 248429 | AC12: =AB12/Z12 -> 0.98279129 | AD12: =D12-AH12 -> 94444 | AE12: =AD12/D12 -> 0.37362281 | AH12: =SUM(W12,T12,P12) -> 158335 | AI12: =AH12/D12 -> 0.62637719
A13: 언어 | B13: =SUM(E13,H13,K13,N13,R13,U13) -> 13095 | C13: =SUM(F13,I13,L13,O13,S13,V13) -> 5180 | D13: 18275 | E13: 115 | F13: 66 | G13: 181 | H13: 1256 | I13: 670 | J13: 1926 | K13: 5614 | L13: 1983 | M13: 7597 | N13: 6106 | O13: 2460 | P13: 8566 | R13: 3 | S13: 1 | T13: 4 | U13: 1 | V13: 0 | W13: 1 | Y13: 언어 | Z13: 18275 | AA13: =Z13/Z9 -> 0.0073262349 | AB13: ='3-1.전국 연령별 장애인(유형) 현황'!M127 -> 16662 | AC13: =AB13/Z13 -> 0.91173735 | AD13: =D13-AH13 -> 9704 | AE13: =AD13/D13 -> 0.53099863 | AH13: =SUM(W13,T13,P13) -> 8571 | AI13: =AH13/D13 -> 0.46900137
A14: 지적 | B14: =SUM(E14,H14,K14,N14,R14,U14) -> 111183 | C14: =SUM(F14,I14,L14,O14,S14,V14) -> 73172 | D14: 184355 | E14: 29542 | F14: 20275 | G14: 49817 | H14: 37086 | I14: 25829 | J14: 62915 | K14: 44554 | L14: 27068 | M14: 71622 | N14: 1 | O14: 0 | P14: 1 | R14: 0 | S14: 0 | T14: 0 | U14: 0 | V14: 0 | W14: 0 | Y14: 지적 | Z14: 184355 | AA14: =Z14/Z9 -> 0.073905775 | AB14: ='3-1.전국 연령별 장애인(유형) 현황'!P127 -> 149368 | AC14: =AB14/Z14 -> 0.81021941 | AD14: =D14-AH14 -> 184354 | AE14: =AD14/D14 -> 0.99999458 | AH14: =SUM(W14,T14,P14) -> 1 | AI14: =AH14/D14 -> 5.4243172e-06
A15: 뇌병변 | B15: =SUM(E15,H15,K15,N15,R15,U15) -> 143931 | C15: =SUM(F15,I15,L15,O15,S15,V15) -> 107612 | D15: 251543 | E15: 29513 | F15: 26767 | G15: 56280 | H15: 28665 | I15: 25506 | J15: 54171 | K15: 33617 | L15: 24760 | M15: 58377 | N15: 18439 | O15: 12375 | P15: 30814 | R15: 16954 | S15: 10142 | T15: 27096 | U15: 16743 | V15: 8062 | W15: 24805 | Y15: 뇌병변 | Z15: 251543 | AA15: =Z15/Z9 -> 0.10084066 | AB15: ='3-1.전국 연령별 장애인(유형) 현황'!S127 -> 239251 | AC15: =AB15/Z15 -> 0.9511336 | AD15: =D15-AH15 -> 168828 | AE15: =AD15/D15 -> 0.67116954 | AH15: =SUM(W15,T15,P15) -> 82715 | AI15: =AH15/D15 -> 0.32883046
A16: 자폐성 | B16: =SUM(E16,H16,K16,N16,R16,U16) -> 16629 | C16: =SUM(F16,I16,L16,O16,S16,V16) -> 2895 | D16: 19524 | E16: 7651 | F16: 1589 | G16: 9240 | H16: 6290 | I16: 1038 | J16: 7328 | K16: 2688 | L16: 268 | M16: 2956 | N16: 0 | O16: 0 | P16: 0 | R16: 0 | S16: 0 | T16: 0 | U16: 0 | V16: 0 | W16: 0 | Y16: 자폐성 | Z16: 19524 | AA16: =Z16/Z9 -> 0.0078269445 | AB16: ='3-1.전국 연령별 장애인(유형) 현황'!V127 -> 8329 | AC16: =AB16/Z16 -> 0.42660316 | AD16: =D16-AH16 -> 19524 | AE16: =AD16/D16 -> 1 | AH16: =SUM(W16,T16,P16) -> 0 | AI16: =AH16/D16 -> 0
A17: 정신 | B17: =SUM(E17,H17,K17,N17,R17,U17) -> 50594 | C17: =SUM(F17,I17,L17,O17,S17,V17) -> 46369 | D17: 96963 | E17: 1465 | F17: 1292 | G17: 2757 | H17: 16538 | I17: 14050 | J17: 30588 | K17: 32591 | L17: 31026 | M17: 63617 | N17: 0 | O17: 1 | P17: 1 | R17: 0 | S17: 0 | T17: 0 | U17: 0 | V17: 0 | W17: 0 | Y17: 정신 | Z17: 96963 | AA17: =Z17/Z9 -> 0.038871339 | AB17: ='3-1.전국 연령별 장애인(유형) 현황'!Y127 -> 96908 | AC17: =AB17/Z17 -> 0.99943277 | AD17: =D17-AH17 -> 96962 | AE17: =AD17/D17 -> 0.99998969 | AH17: =SUM(W17,T17,P17) -> 1 | AI17: =AH17/D17 -> 1.0313212e-05
A18: 신장 | B18: =SUM(E18,H18,K18,N18,R18,U18) -> 40650 | C18: =SUM(F18,I18,L18,O18,S18,V18) -> 29784 | D18: 70434 | E18: 2540 | F18: 1435 | G18: 3975 | H18: 28554 | I18: 21510 | J18: 50064 | K18: 47 | L18: 23 | M18: 70 | N18: 341 | O18: 201 | P18: 542 | R18: 9168 | S18: 6615 | T18: 15783 | U18: 0 | V18: 0 | W18: 0 | Y18: 신장 | Z18: 70434 | AA18: =Z18/Z9 -> 0.028236171 | AB18: ='3-1.전국 연령별 장애인(유형) 현황'!AB127 -> 70223 | AC18: =AB18/Z18 -> 0.99700429 | AD18: =D18-AH18 -> 54109 | AE18: =AD18/D18 -> 0.76822273 | AH18: =SUM(W18,T18,P18) -> 16325 | AI18: =AH18/D18 -> 0.23177727
A19: 심장 | B19: =SUM(E19,H19,K19,N19,R19,U19) -> 4000 | C19: =SUM(F19,I19,L19,O19,S19,V19) -> 2401 | D19: 6401 | E19: 109 | F19: 67 | G19: 176 | H19: 491 | I19: 332 | J19: 823 | K19: 3016 | L19: 1820 | M19: 4836 | N19: 24 | O19: 6 | P19: 30 | R19: 360 | S19: 175 | T19: 535 | U19: 0 | V19: 1 | W19: 1 | Y19: 심장 | Z19: 6401 | AA19: =Z19/Z9 -> 0.0025660864 | AB19: ='3-1.전국 연령별 장애인(유형) 현황'!AE127 -> 5938 | AC19: =AB19/Z19 -> 0.92766755 | AD19: =D19-AH19 -> 5835 | AE19: =AD19/D19 -> 0.91157632 | AH19: =SUM(W19,T19,P19) -> 566 | AI19: =AH19/D19 -> 0.088423684
A20: 호흡기 | B20: =SUM(E20,H20,K20,N20,R20,U20) -> 9392 | C20: =SUM(F20,I20,L20,O20,S20,V20) -> 3053 | D20: 12445 | E20: 1263 | F20: 507 | G20: 1770 | H20: 2616 | I20: 770 | J20: 3386 | K20: 5480 | L20: 1743 | M20: 7223 | N20: 2 | O20: 0 | P20: 2 | R20: 31 | S20: 33 | T20: 64 | U20: 0 | V20: 0 | W20: 0 | Y20: 호흡기 | Z20: 12445 | AA20: =Z20/Z9 -> 0.0049890557 | AB20: ='3-1.전국 연령별 장애인(유형) 현황'!AH127 -> 12396 | AC20: =AB20/Z20 -> 0.99606268 | AD20: =D20-AH20 -> 12379 | AE20: =AD20/D20 -> 0.99469667 | AH20: =SUM(W20,T20,P20) -> 66 | AI20: =AH20/D20 -> 0.0053033347
A21: 간 | B21: =SUM(E21,H21,K21,N21,R21,U21) -> 7000 | C21: =SUM(F21,I21,L21,O21,S21,V21) -> 2668 | D21: 9668 | E21: 227 | F21: 62 | G21: 289 | H21: 298 | I21: 106 | J21: 404 | K21: 526 | L21: 150 | M21: 676 | N21: 188 | O21: 39 | P21: 227 | R21: 5761 | S21: 2311 | T21: 8072 | U21: 0 | V21: 0 | W21: 0 | Y21: 간 | Z21: 9668 | AA21: =Z21/Z9 -> 0.0038757887 | AB21: ='3-1.전국 연령별 장애인(유형) 현황'!AK127 -> 9264 | AC21: =AB21/Z21 -> 0.95821266 | AD21: =D21-AH21 -> 1369 | AE21: =AD21/D21 -> 0.14160116 | AH21: =SUM(W21,T21,P21) -> 8299 | AI21: =AH21/D21 -> 0.85839884
A22: 안면 | B22: =SUM(E22,H22,K22,N22,R22,U22) -> 1557 | C22: =SUM(F22,I22,L22,O22,S22,V22) -> 1132 | D22: 2689 | E22: 57 | F22: 46 | G22: 103 | H22: 229 | I22: 182 | J22: 411 | K22: 546 | L22: 374 | M22: 920 | N22: 701 | O22: 512 | P22: 1213 | R22: 23 | S22: 17 | T22: 40 | U22: 1 | V22: 1 | W22: 2 | Y22: 안면 | Z22: 2689 | AA22: =Z22/Z9 -> 0.0010779888 | AB22: ='3-1.전국 연령별 장애인(유형) 현황'!AN127 -> 2609 | AC22: =AB22/Z22 -> 0.97024916 | AD22: =D22-AH22 -> 1434 | AE22: =AD22/D22 -> 0.53328375 | AH22: =SUM(W22,T22,P22) -> 1255 | AI22: =AH22/D22 -> 0.46671625
A23: 장루.요루 | B23: =SUM(E23,H23,K23,N23,R23,U23) -> 8513 | C23: =SUM(F23,I23,L23,O23,S23,V23) -> 5354 | D23: 13867 | E23: 10 | F23: 1 | G23: 11 | H23: 60 | I23: 45 | J23: 105 | K23: 598 | L23: 324 | M23: 922 | N23: 4805 | O23: 2620 | P23: 7425 | R23: 3040 | S23: 2364 | T23: 5404 | U23: 0 | V23: 0 | W23: 0 | Y23: 장루.요루 | Z23: 13867 | AA23: =Z23/Z9 -> 0.005559119 | AB23: ='3-1.전국 연령별 장애인(유형) 현황'!AQ127 -> 13803 | AC23: =AB23/Z23 -> 0.99538473 | AD23: =D23-AH23 -> 1038 | AE23: =AD23/D23 -> 0.07485397 | AH23: =SUM(W23,T23,P23) -> 12829 | AI23: =AH23/D23 -> 0.92514603
A24: 간질 | B24: =SUM(E24,H24,K24,N24,R24,U24) -> 3876 | C24: =SUM(F24,I24,L24,O24,S24,V24) -> 3208 | D24: 7084 | E24: 65 | F24: 59 | G24: 124 | H24: 215 | I24: 152 | J24: 367 | K24: 776 | L24: 659 | M24: 1435 | N24: 2427 | O24: 2046 | P24: 4473 | R24: 393 | S24: 292 | T24: 685 | U24: 0 | V24: 0 | W24: 0 | Y24: 간질 | Z24: 7084 | AA24: =Z24/Z9 -> 0.0028398932 | AB24: ='3-1.전국 연령별 장애인(유형) 현황'!AT127 -> 6926 | AC24: =AB24/Z24 -> 0.97769622 | AD24: =D24-AH24 -> 1926 | AE24: =AD24/D24 -> 0.27188029 | AH24: =SUM(W24,T24,P24) -> 5158 | AI24: =AH24/D24 -> 0.72811971

Sheet 2-1.전국 연령별장애인(등급)현황
A1: 전국 연령별 장애인 등급별 현황
A2: (2014년 12월)
Q4: 페이지 : 1/4
Q5: (단위: 명)
A7: 나이 | B7: 1급 | E7: 2급 | H7: 3급 | K7: 4급 | N7: 5급 | Q7: 6급 | T7: 합계
B8: 남 | C8: 여 | D8: 합계 | E8: 남 | F8: 여 | G8: 합계 | H8: 남 | I8: 여 | J8: 합계 | K8: 남 | L8: 여 | M8: 합계 | N8: 남 | O8: 여 | P8: 합계 | Q8: 남 | R8: 여 | S8: 합계
A9: 합계 | B9: 116329 | C9: 82624 | D9: 198953 | E9: 195129 | F9: 140487 | G9: 335616 | H9: 264274 | I9: 167623 | J9: 431897 | K9: 189893 | L9: 184515 | M9: 374408 | N9: 278269 | O9: 246421 | P9: 524690 | Q9: 404984 | R9: 223912 | S9: 628896 | T9: 2494460
A10: 0 | B10: 2 | C10: 1 | D10: 3 | E10: 3 | F10: 6 | G10: 9 | H10: 2 | I10: 3 | J10: 5 | K10: 2 | L10: 2 | M10: 4 | N10: 2 | O10: 0 | P10: 2 | Q10: 6 | R10: 2 | S10: 8 | T10: 31 | U10: =SUM(T10:T30) -> 99434
A11: 1 | B11: 124 | C11: 85 | D11: 209 | E11: 72 | F11: 41 | G11: 113 | H11: 23 | I11: 24 | J11: 47 | K11: 13 | L11: 16 | M11: 29 | N11: 12 | O11: 17 | P11: 29 | Q11: 9 | R11: 10 | S11: 19 | T11: 446
A12: 2 | B12: 255 | C12: 218 | D12: 473 | E12: 140 | F12: 104 | G12: 244 | H12: 115 | I12: 81 | J12: 196 | K12: 32 | L12: 19 | M12: 51 | N12: 34 | O12: 29 | P12: 63 | Q12: 21 | R12: 19 | S12: 40 | T12: 1067
A13: 3 | B13: 345 | C13: 252 | D13: 597 | E13: 257 | F13: 165 | G13: 422 | H13: 183 | I13: 138 | J13: 321 | K13: 58 | L13: 30 | M13: 88 | N13: 42 | O13: 37 | P13: 79 | Q13: 46 | R13: 30 | S13: 76 | T13: 1583
A14: 4 | B14: 381 | C14: 259 | D14: 640 | E14: 373 | F14: 189 | G14: 562 | H14: 289 | I14: 193 | J14: 482 | K14: 89 | L14: 54 | M14: 143 | N14: 62 | O14: 52 | P14: 114 | Q14: 67 | R14: 24 | S14: 91 | T14: 2032
A15: 5 | B15: 436 | C15: 284 | D15: 720 | E15: 544 | F15: 222 | G15: 766 | H15: 396 | I15: 214 | J15: 610 | K15: 109 | L15: 62 | M15: 171 | N15: 72 | O15: 50 | P15: 122 | Q15: 68 | R15: 41 | S15: 109 | T15: 2498
A16: 6 | B16: 526 | C16: 329 | D16: 855 | E16: 787 | F16: 352 | G16: 1139 | H16: 630 | I16: 291 | J16: 921 | K16: 130 | L16: 74 | M16: 204 | N16: 77 | O16: 53 | P16: 130 | Q16: 59 | R16: 53 | S16: 112 | T16: 3361
A17: 7 | B17: 688 | C17: 398 | D17: 1086 | E17: 1013 | F17: 423 | G17: 1436 | H17: 744 | I17: 367 | J17: 1111 | K17: 146 | L17: 81 | M17: 227 | N17: 90 | O17: 94 | P17: 184 | Q17: 87 | R17: 57 | S17: 144 | T17: 4188
A18: 8 | B18: 653 | C18: 400 | D18: 1053 | E18: 768 | F18: 339 | G18: 1107 | H18: 782 | I18: 375 | J18: 1157 | K18: 106 | L18: 78 | M18: 184 | N18: 85 | O18: 50 | P18: 135 | Q18: 69 | R18: 52 | S18: 121 | T18: 3757
A19: 9 | B19: 767 | C19: 419 | D19: 1186 | E19: 762 | F19: 345 | G19: 1107 | H19: 826 | I19: 402 | J19: 1228 | K19: 121 | L19: 69 | M19: 190 | N19: 83 | O19: 68 | P19: 151 | Q19: 66 | R19: 66 | S19: 132 | T19: 3994
A20: 10 | B20: 909 | C20: 479 | D20: 1388 | E20: 793 | F20: 348 | G20: 1141 | H20: 835 | I20: 441 | J20: 1276 | K20: 134 | L20: 73 | M20: 207 | N20: 84 | O20: 82 | P20: 166 | Q20: 105 | R20: 81 | S20: 186 | T20: 4364
A21: 11 | B21: 981 | C21: 568 | D21: 1549 | E21: 840 | F21: 450 | G21: 1290 | H21: 888 | I21: 470 | J21: 1358 | K21: 132 | L21: 62 | M21: 194 | N21: 110 | O21: 82 | P21: 192 | Q21: 132 | R21: 100 | S21: 232 | T21: 4815
A22: 12 | B22: 1194 | C22: 658 | D22: 1852 | E22: 884 | F22: 415 | G22: 1299 | H22: 934 | I22: 455 | J22: 1389 | K22: 112 | L22: 60 | M22: 172 | N22: 115 | O22: 105 | P22: 220 | Q22: 152 | R22: 108 | S22: 260 | T22: 5192
... A30: 20 | B30: 1677 | C30: 821 | D30: 2498 | E30: 1783 | F30: 987 | G30: 2770 | H30: 1526 | I30: 774 | J30: 2300 | K30: 174 | L30: 98 | M30: 272 | N30: 260 | O30: 168 | P30: 428 | Q30: 438 | R30: 206 | S30: 644 | T30: 8912
A31: 21 | B31: 1594 | C31: 818 | D31: 2412 | E31: 1618 | F31: 894 | G31: 2512 | H31: 1581 | I31: 726 | J31: 2307 | K31: 232 | L31: 109 | M31: 341 | N31: 277 | O31: 184 | P31: 461 | Q31: 513 | R31: 242 | S31: 755 | T31: 8788 | U31: =SUM(T31:T40) -> 90727
A32: 22 | B32: 1572 | C32: 817 | D32: 2389 | E32: 1553 | F32: 968 | G32: 2521 | H32: 1553 | I32: 732 | J32: 2285 | K32: 229 | L32: 142 | M32: 371 | N32: 307 | O32: 169 | P32: 476 | Q32: 602 | R32: 263 | S32: 865 | T32: 8907
A33: 23 | B33: 1515 | C33: 784 | D33: 2299 | E33: 1578 | F33: 884 | G33: 2462 | H33: 1520 | I33: 701 | J33: 2221 | K33: 242 | L33: 132 | M33: 374 | N33: 368 | O33: 168 | P33: 536 | Q33: 707 | R33: 255 | S33: 962 | T33: 8854
A34: 24 | B34: 1409 | C34: 681 | D34: 2090 | E34: 1422 | F34: 784 | G34: 2206 | H34: 1420 | I34: 619 | J34: 2039 | K34: 250 | L34: 113 | M34: 363 | N34: 377 | O34: 207 | P34: 584 | Q34: 749 | R34: 254 | S34: 1003 | T34: 8285
A35: 25 | B35: 1416 | C35: 666 | D35: 2082 | E35: 1285 | F35: 833 | G35: 2118 | H35: 1376 | I35: 674 | J35: 2050 | K35: 254 | L35: 128 | M35: 382 | N35: 424 | O35: 189 | P35: 613 | Q35: 964 | R35: 289 | S35: 1253 | T35: 8498
A36: 26 | B36: 1342 | C36: 705 | D36: 2047 | E36: 1317 | F36: 848 | G36: 2165 | H36: 1378 | I36: 651 | J36: 2029 | K36: 249 | L36: 136 | M36: 385 | N36: 490 | O36: 215 | P36: 705 | Q36: 1136 | R36: 321 | S36: 1457 | T36: 8788
A37: 27 | B37: 1230 | C37: 648 | D37: 1878 | E37: 1304 | F37: 842 | G37: 2146 | H37: 1331 | I37: 696 | J37: 2027 | K37: 305 | L37: 148 | M37: 453 | N37: 514 | O37: 214 | P37: 728 | Q37: 1316 | R37: 347 | S37: 1663 | T37: 8895
A38: 28 | B38: 1245 | C38: 644 | D38: 1889 | E38: 1294 | F38: 810 | G38: 2104 | H38: 1327 | I38: 723 | J38: 2050 | K38: 384 | L38: 160 | M38: 544 | N38: 566 | O38: 223 | P38: 789 | Q38: 1649 | R38: 393 | S38: 2042 | T38: 9418
A39: 29 | B39: 1113 | C39: 653 | D39: 1766 | E39: 1275 | F39: 839 | G39: 2114 | H39: 1340 | I39: 775 | J39: 2115 | K39: 403 | L39: 188 | M39: 591 | N39: 653 | O39: 273 | P39: 926 | Q39: 1845 | R39: 467 | S39: 2312 | T39: 9824
A40: 30 | B40: 1049 | C40: 636 | D40: 1685 | E40: 1294 | F40: 873 | G40: 2167 | H40: 1398 | I40: 804 | J40: 2202 | K40: 494 | L40: 183 | M40: 677 | N40: 764 | O40: 297 | P40: 1061 | Q40: 2160 | R40: 518 | S40: 2678 | T40: 10470
A41: 31 | B41: 1228 | C41: 737 | D41: 1965 | E41: 1460 | F41: 1046 | G41: 2506 | H41: 1748 | I41: 920 | J41: 2668 | K41: 601 | L41: 261 | M41: 862 | N41: 1016 | O41: 375 | P41: 1391 | Q41: 2812 | R41: 628 | S41: 3440 | T41: 12832 | U41: =SUM(T41:T50) -> 178238
A42: 32 | B42: 1281 | C42: 839 | D42: 2120 | E42: 1715 | F42: 1081 | G42: 2796 | H42: 1923 | I42: 1095 | J42: 3018 | K42: 691 | L42: 291 | M42: 982 | N42: 1232 | O42: 465 | P42: 1697 | Q42: 3453 | R42: 771 | S42: 4224 | T42: 14837
A43: 33 | B43: 1336 | C43: 827 | D43: 2163 | E43: 1641 | F43: 1151 | G43: 2792 | H43: 2042 | I43: 1188 | J43: 3230 | K43: 855 | L43: 356 | M43: 1211 | N43: 1408 | O43: 485 | P43: 1893 | Q43: 3843 | R43: 848 | S43: 4691 | T43: 15980
A44: 34 | B44: 1255 | C44: 841 | D44: 2096 | E44: 1719 | F44: 1155 | G44: 2874 | H44: 2154 | I44: 1203 | J44: 3357 | K44: 934 | L44: 334 | M44: 1268 | N44: 1608 | O44: 575 | P44: 2183 | Q44: 4094 | R44: 926 | S44: 5020 | T44: 16798
A45: 35 | B45: 1250 | C45: 790 | D45: 2040 | E45: 1679 | F45: 1189 | G45: 2868 | H45: 2158 | I45: 1297 | J45: 3455 | K45: 981 | L45: 347 | M45: 1328 | N45: 1724 | O45: 577 | P45: 2301 | Q45: 4410 | R45: 1025 | S45: 5435 | T45: 17427
A46: 36 | B46: 1192 | C46: 689 | D46: 1881 | E46: 1640 | F46: 1112 | G46: 2752 | H46: 2151 | I46: 1140 | J46: 3291 | K46: 993 | L46: 351 | M46: 1344 | N46: 1801 | O46: 596 | P46: 2397 | Q46: 4328 | R46: 983 | S46: 5311 | T46: 16976
A47: 37 | B47: 1253 | C47: 785 | D47: 2038 | E47: 1852 | F47: 1196 | G47: 3048 | H47: 2397 | I47: 1339 | J47: 3736 | K47: 1120 | L47: 401 | M47: 1521 | N47: 2079 | O47: 699 | P47: 2778 | Q47: 4799 | R47: 1048 | S47: 5847 | T47: 18968
A48: 38 | B48: 1218 | C48: 734 | D48: 1952 | E48: 1827 | F48: 1222 | G48: 3049 | H48: 2454 | I48: 1362 | J48: 3816 | K48: 1193 | L48: 433 | M48: 1626 | N48: 2211 | O48: 704 | P48: 2915 | Q48: 4976 | R48: 1131 | S48: 6107 | T48: 19465
A49: 39 | B49: 1272 | C49: 781 | D49: 2053 | E49: 1886 | F49: 1289 | G49: 3175 | H49: 2600 | I49: 1566 | J49: 4166 | K49: 1319 | L49: 511 | M49: 1830 | N49: 2429 | O49: 794 | P49: 3223 | Q49: 5294 | R49: 1203 | S49: 6497 | T49: 20944
A50: 40 | B50: 1546 | C50: 799 | D50: 2345 | E50: 2111 | F50: 1438 | G50: 3549 | H50: 3181 | I50: 1643 | J50: 4824 | K50: 1617 | L50: 528 | M50: 2145 | N50: 2820 | O50: 901 | P50: 3721 | Q50: 6012 | R50: 1415 | S50: 7427 | T50: 24011
A51: 41 | B51: 1403 | C51: 968 | D51: 2371 | E51: 2403 | F51: 1593 | G51: 3996 | H51: 3316 | I51: 1949 | J51: 5265 | K51: 1743 | L51: 682 | M51: 2425 | N51: 3037 | O51: 1077 | P51: 4114 | Q51: 6206 | R51: 1531 | S51: 7737 | T51: 25908 | U51: =SUM(T51:T60) -> 341923
A52: 42 | B52: 1511 | C52: 903 | D52: 2414 | E52: 2507 | F52: 1552 | G52: 4059 | H52: 3732 | I52: 2045 | J52: 5777 | K52: 1976 | L52: 779 | M52: 2755 | N52: 3304 | O52: 1104 | P52: 4408 | Q52: 6591 | R52: 1568 | S52: 8159 | T52: 27572
A53: 43 | B53: 1569 | C53: 935 | D53: 2504 | E53: 2696 | F53: 1739 | G53: 4435 | H53: 4023 | I53: 2211 | J53: 6234 | K53: 2142 | L53: 798 | M53: 2940 | N53: 3491 | O53: 1199 | P53: 4690 | Q53: 7145 | R53: 1847 | S53: 8992 | T53: 29795
A54: 44 | B54: 1573 | C54: 983 | D54: 2556 | E54: 2693 | F54: 1845 | G54: 4538 | H54: 4072 | I54: 2166 | J54: 6238 | K54: 2267 | L54: 854 | M54: 3121 | N54: 3805 | O54: 1290 | P54: 5095 | Q54: 7172 | R54: 1796 | S54: 8968 | T54: 30516
A55: 45 | B55: 1638 | C55: 985 | D55: 2623 | E55: 3002 | F55: 2005 | G55: 5007 | H55: 4523 | I55: 2484 | J55: 7007 | K55: 2600 | L55: 1006 | M55: 3606 | N55: 4260 | O55: 1448 | P55: 5708 | Q55: 7843 | R55: 2031 | S55: 9874 | T55: 33825
A56: 46 | B56: 1852 | C56: 1026 | D56: 2878 | E56: 3336 | F56: 2184 | G56: 5520 | H56: 4920 | I56: 2656 | J56: 7576 | K56: 3007 | L56: 1167 | M56: 4174 | N56: 4658 | O56: 1701 | P56: 6359 | Q56: 8456 | R56: 2302 | S56: 10758 | T56: 37265
A57: 47 | B57: 1721 | C57: 1056 | D57: 2777 | E57: 3342 | F57: 2129 | G57: 5471 | H57: 4927 | I57: 2816 | J57: 7743 | K57: 3207 | L57: 1344 | M57: 4551 | N57: 4724 | O57: 1961 | P57: 6685 | Q57: 7968 | R57: 2427 | S57: 10395 | T57: 37622
A58: 48 | B58: 1749 | C58: 928 | D58: 2677 | E58: 3301 | F58: 2018 | G58: 5319 | H58: 4988 | I58: 2600 | J58: 7588 | K58: 3437 | L58: 1180 | M58: 4617 | N58: 4995 | O58: 1819 | P58: 6814 | Q58: 8621 | R58: 2426 | S58: 11047 | T58: 38062
A59: 49 | B59: 1739 | C59: 974 | D59: 2713 | E59: 3416 | F59: 2183 | G59: 5599 | H59: 4974 | I59: 2760 | J59: 7734 | K59: 3326 | L59: 1214 | M59: 4540 | N59: 5360 | O59: 2081 | P59: 7441 | Q59: 8973 | R59: 2895 | S59: 11868 | T59: 39895
A60: 50 | B60: 1804 | C60: 991 | D60: 2795 | E60: 3442 | F60: 2162 | G60: 5604 | H60: 5158 | I60: 2739 | J60: 7897 | K60: 3450 | L60: 1371 | M60: 4821 | N60: 5646 | O60: 2285 | P60: 7931 | Q60: 9443 | R60: 2972 | S60: 12415 | T60: 41463
A61: 51 | B61: 1817 | C61: 976 | D61: 2793 | E61: 3738 | F61: 2078 | G61: 5816 | H61: 5540 | I61: 2806 | J61: 8346 | K61: 3943 | L61: 1432 | M61: 5375 | N61: 5756 | O61: 2448 | P61: 8204 | Q61: 9124 | R61: 3220 | S61: 12344 | T61: 42878 | U61: =SUM(T61:T70) -> 548724
A62: 52 | B62: 1977 | C62: 1151 | D62: 3128 | E62: 4220 | F62: 2516 | G62: 6736 | H62: 6290 | I62: 3214 | J62: 9504 | K62: 4612 | L62: 1797 | M62: 6409 | N62: 6997 | O62: 2934 | P62: 9931 | Q62: 11035 | R62: 3845 | S62: 14880 | T62: 50588
A63: 53 | B63: 2256 | C63: 1214 | D63: 3470 | E63: 4576 | F63: 2725 | G63: 7301 | H63: 6817 | I63: 3555 | J63: 10372 | K63: 5031 | L63: 2041 | M63: 7072 | N63: 7643 | O63: 3683 | P63: 11326 | Q63: 11823 | R63: 4768 | S63: 16591 | T63: 56132
A64: 54 | B64: 2285 | C64: 1279 | D64: 3564 | E64: 4814 | F64: 2943 | G64: 7757 | H64: 7214 | I64: 3709 | J64: 10923 | K64: 5417 | L64: 2358 | M64: 7775 | N64: 7996 | O64: 4325 | P64: 12321 | Q64: 12210 | R64: 5320 | S64: 17530 | T64: 59870
A65: 55 | B65: 2290 | C65: 1217 | D65: 3507 | E65: 4405 | F65: 2772 | G65: 7177 | H65: 6560 | I65: 3531 | J65: 10091 | K65: 5215 | L65: 2295 | M65: 7510 | N65: 7816 | O65: 4192 | P65: 12008 | Q65: 11672 | R65: 5221 | S65: 16893 | T65: 57186
A66: 56 | B66: 2111 | C66: 1177 | D66: 3288 | E66: 4350 | F66: 2563 | G66: 6913 | H66: 6533 | I66: 3295 | J66: 9828 | K66: 5122 | L66: 2211 | M66: 7333 | N66: 7588 | O66: 4129 | P66: 11717 | Q66: 10932 | R66: 5130 | S66: 16062 | T66: 55141
A67: 57 | B67: 2167 | C67: 1261 | D67: 3428 | E67: 4499 | F67: 2724 | G67: 7223 | H67: 6411 | I67: 3603 | J67: 10014 | K67: 5106 | L67: 2370 | M67: 7476 | N67: 7907 | O67: 4684 | P67: 12591 | Q67: 11474 | R67: 5562 | S67: 17036 | T67: 57768
A68: 58 | B68: 2034 | C68: 1152 | D68: 3186 | E68: 4297 | F68: 2568 | G68: 6865 | H68: 6159 | I68: 3276 | J68: 9435 | K68: 4964 | L68: 2373 | M68: 7337 | N68: 7321 | O68: 4808 | P68: 12129 | Q68: 10499 | R68: 5703 | S68: 16202 | T68: 55154
A69: 59 | B69: 2148 | C69: 1255 | D69: 3403 | E69: 4465 | F69: 2833 | G69: 7298 | H69: 6568 | I69: 3609 | J69: 10177 | K69: 5335 | L69: 2864 | M69: 8199 | N69: 7962 | O69: 5554 | P69: 13516 | Q69: 11246 | R69: 6422 | S69: 17668 | T69: 60261
A70: 60 | B70: 1887 | C70: 1151 | D70: 3038 | E70: 4008 | F70: 2398 | G70: 6406 | H70: 5771 | I70: 3220 | J70: 8991 | K70: 4713 | L70: 2699 | M70: 7412 | N70: 7094 | O70: 5144 | P70: 12238 | Q70: 9940 | R70: 5721 | S70: 15661 | T70: 53746
A71: 61 | B71: 1691 | C71: 1054 | D71: 2745 | E71: 3533 | F71: 2263 | G71: 5796 | H71: 4898 | I71: 2843 | J71: 7741 | K71: 4093 | L71: 2520 | M71: 6613 | N71: 6208 | O71: 4888 | P71: 11096 | Q71: 8672 | R71: 5412 | S71: 14084 | T71: 48075 | U71: =SUM(T71:T126) -> 1235414
A72: 62 | B72: 1952 | C72: 1204 | D72: 3156 | E72: 4079 | F72: 2669 | G72: 6748 | H72: 5879 | I72: 3369 | J72: 9248 | K72: 5009 | L72: 3214 | M72: 8223 | N72: 7456 | O72: 6139 | P72: 13595 | Q72: 10309 | R72: 6303 | S72: 16612 | T72: 57582
A73: 63 | B73: 1466 | C73: 963 | D73: 2429 | E73: 3165 | F73: 2039 | G73: 5204 | H73: 4413 | I73: 2647 | J73: 7060 | K73: 3939 | L73: 2781 | M73: 6720 | N73: 5743 | O73: 4982 | P73: 10725 | Q73: 8102 | R73: 5367 | S73: 13469 | T73: 45607
A74: 64 | B74: 1653 | C74: 1067 | D74: 2720 | E74: 3450 | F74: 2284 | G74: 5734 | H74: 4971 | I74: 2852 | J74: 7823 | K74: 4326 | L74: 3396 | M74: 7722 | N74: 6541 | O74: 5744 | P74: 12285 | Q74: 8552 | R74: 6006 | S74: 14558 | T74: 50842
A75: 65 | B75: 1776 | C75: 1131 | D75: 2907 | E75: 3620 | F75: 2374 | G75: 5994 | H75: 5229 | I75: 2990 | J75: 8219 | K75: 4514 | L75: 3856 | M75: 8370 | N75: 6746 | O75: 6269 | P75: 13015 | Q75: 9144 | R75: 6546 | S75: 15690 | T75: 54195
A76: 66 | B76: 1664 | C76: 1178 | D76: 2842 | E76: 3626 | F76: 2458 | G76: 6084 | H76: 5304 | I76: 3147 | J76: 8451 | K76: 4645 | L76: 4341 | M76: 8986 | N76: 6971 | O76: 6877 | P76: 13848 | Q76: 9220 | R76: 6589 | S76: 15809 | T76: 56020
A77: 67 | B77: 1770 | C77: 1312 | D77: 3082 | E77: 3756 | F77: 2700 | G77: 6456 | H77: 5621 | I77: 3323 | J77: 8944 | K77: 4976 | L77: 4898 | M77: 9874 | N77: 7126 | O77: 7432 | P77: 14558 | Q77: 9276 | R77: 6942 | S77: 16218 | T77: 59132
A78: 68 | B78: 1483 | C78: 1082 | D78: 2565 | E78: 3225 | F78: 2191 | G78: 5416 | H78: 4585 | I78: 2730 | J78: 7315 | K78: 4116 | L78: 4280 | M78: 8396 | N78: 6141 | O78: 6311 | P78: 12452 | Q78: 7503 | R78: 5787 | S78: 13290 | T78: 49434
A79: 69 | B79: 1329 | C79: 1073 | D79: 2402 | E79: 2934 | F79: 2253 | G79: 5187 | H79: 4198 | I79: 2781 | J79: 6979 | K79: 3702 | L79: 4289 | M79: 7991 | N79: 5492 | O79: 6381 | P79: 11873 | Q79: 6873 | R79: 5594 | S79: 12467 | T79: 46899
A80: 70 | B80: 1510 | C80: 1280 | D80: 2790 | E80: 3201 | F80: 2705 | G80: 5906 | H80: 4566 | I80: 2982 | J80: 7548 | K80: 4192 | L80: 5342 | M80: 9534 | N80: 6260 | O80: 7357 | P80: 13617 | Q80: 7433 | R80: 6015 | S80: 13448 | T80: 52843
A81: 71 | B81: 1504 | C81: 1380 | D81: 2884 | E81: 3390 | F81: 2734 | G81: 6124 | H81: 4436 | I81: 3218 | J81: 7654 | K81: 4282 | L81: 5775 | M81: 10057 | N81: 6225 | O81: 7872 | P81: 14097 | Q81: 7341 | R81: 6454 | S81: 13795 | T81: 54611
A82: 72 | B82: 1892 | C82: 1764 | D82: 3656 | E82: 3975 | F82: 3531 | G82: 7506 | H82: 5640 | I82: 4156 | J82: 9796 | K82: 5617 | L82: 8055 | M82: 13672 | N82: 7834 | O82: 10075 | P82: 17909 | Q82: 9283 | R82: 8021 | S82: 17304 | T82: 69843
A83: 73 | B83: 1503 | C83: 1506 | D83: 3009 | E83: 3549 | F83: 3063 | G83: 6612 | H83: 4652 | I83: 3600 | J83: 8252 | K83: 4534 | L83: 7134 | M83: 11668 | N83: 6380 | O83: 8772 | P83: 15152 | Q83: 7480 | R83: 6531 | S83: 14011 | T83: 58704
... A126: 해당없음 | B126: 0 | C126: 0 | D126: 0 | E126: 0 | F126: 0 | G126: 0 | H126: 0 | I126: 0 | J126: 0 | K126: 0 | L126: 1 | M126: 1 | N126: 0 | O126: 0 | P126: 0 | Q126: 0 | R126: 0 | S126: 0 | T126: 1
A127: (18세이상) | B127: =SUM(B28:B126) -> 101233 | C127: =SUM(C28:C126) -> 74139 | D127: =SUM(D28:D126) -> 175372 | E127: =SUM(E28:E126) -> 181774 | F127: =SUM(F28:F126) -> 133767 | G127: =SUM(G28:G126) -> 315541 | H127: =SUM(H28:H126) -> 250961 | I127: =SUM(I28:I126) -> 160517 | ... T127: =SUM(T28:T126) -> 2421265
F128: (1-2급,18세이상) | G128: =D127+G127 -> 490913 | I128: (1-3급,18세이상) | J128: =D127+G127+J127 -> 902391
I129: 3급 중복장애 | J129: 18000
H130: 장애연금대상 | I130: 1,2급,+중복3급 | J130: =G128+J129 -> 508913
A131: 출력일자 : 2015-4-2 14:45:54 출력자 : 방희정 출력부서 : 대전광역시 서구 복수동

Sheet 3-1.전국 연령별 장애인(유형) 현황
A1: 전국 장애인 연령별, 유형별 현황
A2: (2014년 12월)
AO4: 페이지 : 1 / 4
AO5: (단위: 명)
A7: 나이 | B7: 지체 | E7: 시각 | H7: 청각 | K7: 언어 | N7: 지적 | Q7: 뇌병변 | T7: 자폐 | W7: 정신 | Z7: 신장 | AC7: 심장 | AF7: 호흡기 | AI7: 간 | AL7: 안면 | AO7: 장루.요루 | AR7: 간질 | AU7: 합계
B8: 남 | C8: 여 | D8: 합계 | E8: 남 | F8: 여 | G8: 합계 | H8: 남 | I8: 여 | J8: 합계 | K8: 남 | L8: 여 | M8: 합계 | N8: 남 | O8: 여 | P8: 합계 | Q8: 남 | R8: 여 | S8: 합계 | T8: 남 | U8: 여 | V8: 합계 | W8: 남 | X8: 여 | Y8: 합계 | Z8: 남 | AA8: 여 | AB8: 합계 | AC8: 남 | AD8: 여 | AE8: 합계 | AF8: 남 | AG8: 여 | AH8: 합계 | AI8: 남 | AJ8: 여 | AK8: 합계 | AL8: 남 | AM8: 여 | AN8: 합계 | AO8: 남 | AP8: 여 | AQ8: 합계 | AR8: 남 | AS8: 여 | AT8: 합계
A9: 합계 | B9: 749259 | C9: 546349 | D9: 1295608 | E9: 150843 | F9: 101982 | G9: 252825 | H9: 138356 | I9: 114423 | J9: 252779 | K9: 13095 | L9: 5180 | M9: 18275 | N9: 111183 | O9: 73172 | P9: 184355 | Q9: 143931 | R9: 107612 | S9: 251543 | T9: 16629 | U9: 2895 | V9: 19524 | W9: 50594 | X9: 46369 | Y9: 96963 | Z9: 40650 | AA9: 29784 | AB9: 70434 | AC9: 4000 | AD9: 2401 | AE9: 6401 | AF9: 9392 | AG9: 3053 | AH9: 12445 | AI9: 7000 | AJ9: 2668 | AK9: 9668 | AL9: 1557 | AM9: 1132 | AN9: 2689 | AO9: 8513 | AP9: 5354 | AQ9: 13867 | AR9: 3876 | AS9: 3208 | AT9: 7084 | AU9: 2494460
A10: 0 | B10: 2 | C10: 2 | D10: 4 | E10: 5 | F10: 2 | G10: 7 | H10: 7 | I10: 9 | J10: 16 | K10: 0 | L10: 0 | M10: 0 | N10: 0 | O10: 0 | P10: 0 | Q10: 1 | R10: 1 | S10: 2 | T10: 0 | U10: 0 | V10: 0 | W10: 0 | X10: 0 | Y10: 0 | Z10: 1 | AA10: 0 | AB10: 1 | AC10: 0 | AD10: 0 | AE10: 0 | AF10: 0 | AG10: 0 | AH10: 0 | AI10: 1 | AJ10: 0 | AK10: 1 | AL10: 0 | AM10: 0 | AN10: 0 | AO10: 0 | AP10: 0 | AQ10: 0 | AR10: 0 | AS10: 0 | AT10: 0 | AU10: 31
A11: 1 | B11: 16 | C11: 15 | D11: 31 | E11: 14 | F11: 14 | G11: 28 | H11: 58 | I11: 42 | J11: 100 | K11: 0 | L11: 1 | M11: 1 | N11: 0 | O11: 0 | P11: 0 | Q11: 158 | R11: 110 | S11: 268 | T11: 0 | U11: 0 | V11: 0 | W11: 0 | X11: 0 | Y11: 0 | Z11: 2 | AA11: 2 | AB11: 4 | AC11: 0 | AD11: 0 | AE11: 0 | AF11: 0 | AG11: 1 | AH11: 1 | AI11: 4 | AJ11: 8 | AK11: 12 | AL11: 0 | AM11: 0 | AN11: 0 | AO11: 0 | AP11: 0 | AQ11: 0 | AR11: 1 | AS11: 0 | AT11: 1 | AU11: 446
A12: 2 | B12: 42 | C12: 18 | D12: 60 | E12: 26 | F12: 26 | G12: 52 | H12: 76 | I12: 67 | J12: 143 | K12: 2 | L12: 4 | M12: 6 | N12: 92 | O12: 57 | P12: 149 | Q12: 335 | R12: 283 | S12: 618 | T12: 2 | U12: 0 | V12: 2 | W12: 0 | X12: 0 | Y12: 0 | Z12: 5 | AA12: 0 | AB12: 5 | AC12: 4 | AD12: 1 | AE12: 5 | AF12: 2 | AG12: 1 | AH12: 3 | AI12: 6 | AJ12: 9 | AK12: 15 | AL12: 0 | AM12: 0 | AN12: 0 | AO12: 3 | AP12: 3 | AQ12: 6 | AR12: 2 | AS12: 1 | AT12: 3 | AU12: 1067
A13: 3 | B13: 38 | C13: 42 | D13: 80 | E13: 37 | F13: 38 | G13: 75 | H13: 94 | I13: 82 | J13: 176 | K13: 42 | L13: 15 | M13: 57 | N13: 197 | O13: 129 | P13: 326 | Q13: 421 | R13: 309 | S13: 730 | T13: 83 | U13: 10 | V13: 93 | W13: 0 | X13: 0 | Y13: 0 | Z13: 3 | AA13: 1 | AB13: 4 | AC13: 6 | AD13: 10 | AE13: 16 | AF13: 0 | AG13: 1 | AH13: 1 | AI13: 7 | AJ13: 13 | AK13: 20 | AL13: 0 | AM13: 0 | AN13: 0 | AO13: 1 | AP13: 2 | AQ13: 3 | AR13: 2 | AS13: 0 | AT13: 2 | AU13: 1583
A14: 4 | B14: 55 | C14: 40 | D14: 95 | E14: 48 | F14: 19 | G14: 67 | H14: 113 | I14: 89 | J14: 202 | K14: 58 | L14: 34 | M14: 92 | N14: 333 | O14: 202 | P14: 535 | Q14: 446 | R14: 314 | S14: 760 | T14: 183 | U14: 48 | V14: 231 | W14: 0 | X14: 0 | Y14: 0 | Z14: 2 | AA14: 2 | AB14: 4 | AC14: 6 | AD14: 4 | AE14: 10 | AF14: 3 | AG14: 1 | AH14: 4 | AI14: 9 | AJ14: 13 | AK14: 22 | AL14: 0 | AM14: 0 | AN14: 0 | AO14: 1 | AP14: 3 | AQ14: 4 | AR14: 4 | AS14: 2 | AT14: 6 | AU14: 2032
A15: 5 | B15: 59 | C15: 44 | D15: 103 | E15: 50 | F15: 36 | G15: 86 | H15: 127 | I15: 96 | J15: 223 | K15: 92 | L15: 49 | M15: 141 | N15: 534 | O15: 277 | P15: 811 | Q15: 390 | R15: 272 | S15: 662 | T15: 356 | U15: 78 | V15: 434 | W15: 0 | X15: 0 | Y15: 0 | Z15: 0 | AA15: 0 | AB15: 0 | AC15: 4 | AD15: 5 | AE15: 9 | AF15: 0 | AG15: 0 | AH15: 0 | AI15: 9 | AJ15: 12 | AK15: 21 | AL15: 0 | AM15: 0 | AN15: 0 | AO15: 1 | AP15: 0 | AQ15: 1 | AR15: 3 | AS15: 4 | AT15: 7 | AU15: 2498
A16: 6 | B16: 76 | C16: 59 | D16: 135 | E16: 61 | F16: 48 | G16: 109 | H16: 108 | I16: 83 | J16: 191 | K16: 108 | L16: 66 | M16: 174 | N16: 876 | O16: 454 | P16: 1330 | Q16: 375 | R16: 275 | S16: 650 | T16: 581 | U16: 138 | V16: 719 | W16: 0 | X16: 0 | Y16: 0 | Z16: 1 | AA16: 2 | AB16: 3 | AC16: 4 | AD16: 5 | AE16: 9 | AF16: 2 | AG16: 1 | AH16: 3 | AI16: 11 | AJ16: 15 | AK16: 26 | AL16: 1 | AM16: 1 | AN16: 2 | AO16: 2 | AP16: 2 | AQ16: 4 | AR16: 3 | AS16: 3 | AT16: 6 | AU16: 3361
A17: 7 | B17: 101 | C17: 66 | D17: 167 | E17: 86 | F17: 47 | G17: 133 | H17: 130 | I17: 111 | J17: 241 | K17: 114 | L17: 46 | M17: 160 | N17: 1215 | O17: 629 | P17: 1844 | Q17: 404 | R17: 333 | S17: 737 | T17: 684 | U17: 155 | V17: 839 | W17: 0 | X17: 0 | Y17: 0 | Z17: 6 | AA17: 3 | AB17: 9 | AC17: 7 | AD17: 4 | AE17: 11 | AF17: 4 | AG17: 1 | AH17: 5 | AI17: 11 | AJ17: 20 | AK17: 31 | AL17: 0 | AM17: 1 | AN17: 1 | AO17: 1 | AP17: 2 | AQ17: 3 | AR17: 5 | AS17: 2 | AT17: 7 | AU17: 4188
A18: 8 | B18: 92 | C18: 40 | D18: 132 | E18: 62 | F18: 58 | G18: 120 | H18: 114 | I18: 88 | J18: 202 | K18: 69 | L18: 56 | M18: 125 | N18: 1175 | O18: 624 | P18: 1799 | Q18: 390 | R18: 297 | S18: 687 | T18: 528 | U18: 102 | V18: 630 | W18: 0 | X18: 0 | Y18: 0 | Z18: 1 | AA18: 7 | AB18: 8 | AC18: 13 | AD18: 7 | AE18: 20 | AF18: 0 | AG18: 1 | AH18: 1 | AI18: 11 | AJ18: 10 | AK18: 21 | AL18: 2 | AM18: 0 | AN18: 2 | AO18: 1 | AP18: 1 | AQ18: 2 | AR18: 5 | AS18: 3 | AT18: 8 | AU18: 3757
A19: 9 | B19: 107 | C19: 77 | D19: 184 | E19: 81 | F19: 51 | G19: 132 | H19: 127 | I19: 98 | J19: 225 | K19: 76 | L19: 37 | M19: 113 | N19: 1300 | O19: 667 | P19: 1967 | Q19: 386 | R19: 304 | S19: 690 | T19: 509 | U19: 98 | V19: 607 | W19: 0 | X19: 0 | Y19: 0 | Z19: 4 | AA19: 2 | AB19: 6 | AC19: 11 | AD19: 14 | AE19: 25 | AF19: 3 | AG19: 0 | AH19: 3 | AI19: 8 | AJ19: 13 | AK19: 21 | AL19: 1 | AM19: 4 | AN19: 5 | AO19: 2 | AP19: 2 | AQ19: 4 | AR19: 10 | AS19: 2 | AT19: 12 | AU19: 3994
A20: 10 | B20: 123 | C20: 93 | D20: 216 | E20: 99 | F20: 78 | G20: 177 | H20: 129 | I20: 110 | J20: 239 | K20: 86 | L20: 39 | M20: 125 | N20: 1392 | O20: 756 | P20: 2148 | Q20: 386 | R20: 279 | S20: 665 | T20: 594 | U20: 107 | V20: 701 | W20: 0 | X20: 0 | Y20: 0 | Z20: 6 | AA20: 3 | AB20: 9 | AC20: 17 | AD20: 14 | AE20: 31 | AF20: 0 | AG20: 2 | AH20: 2 | AI20: 10 | AJ20: 13 | AK20: 23 | AL20: 3 | AM20: 3 | AN20: 6 | AO20: 4 | AP20: 4 | AQ20: 8 | AR20: 11 | AS20: 3 | AT20: 14 | AU20: 4364
A21: 11 | B21: 172 | C21: 91 | D21: 263 | E21: 112 | F21: 102 | G21: 214 | H21: 130 | I21: 126 | J21: 256 | K21: 76 | L21: 34 | M21: 110 | N21: 1485 | O21: 916 | P21: 2401 | Q21: 417 | R21: 318 | S21: 735 | T21: 626 | U21: 106 | V21: 732 | W21: 2 | X21: 0 | Y21: 2 | Z21: 7 | AA21: 0 | AB21: 7 | AC21: 20 | AD21: 12 | AE21: 32 | AF21: 3 | AG21: 0 | AH21: 3 | AI21: 16 | AJ21: 15 | AK21: 31 | AL21: 5 | AM21: 5 | AN21: 10 | AO21: 4 | AP21: 2 | AQ21: 6 | AR21: 8 | AS21: 5 | AT21: 13 | AU21: 4815
... A27: 17 | B27: 428 | C27: 311 | D27: 739 | E27: 217 | F27: 128 | G27: 345 | H27: 203 | I27: 206 | J27: 409 | K27: 37 | L27: 18 | M27: 55 | N27: 2542 | O27: 1739 | P27: 4281 | Q27: 448 | R27: 309 | S27: 757 | T27: 883 | U27: 153 | V27: 1036 | W27: 10 | X27: 10 | Y27: 20 | Z27: 24 | AA27: 15 | AB27: 39 | AC27: 31 | AD27: 21 | AE27: 52 | AF27: 3 | AG27: 2 | AH27: 5 | AI27: 14 | AJ27: 10 | AK27: 24 | AL27: 6 | AM27: 4 | AN27: 10 | AO27: 2 | AP27: 2 | AQ27: 4 | AR27: 14 | AS27: 3 | AT27: 17 | AU27: 7793
A28: 18 | B28: 565 | C28: 362 | D28: 927 | E28: 267 | F28: 141 | G28: 408 | H28: 282 | I28: 175 | J28: 457 | K28: 30 | L28: 18 | M28: 48 | N28: 2909 | O28: 1784 | P28: 4693 | Q28: 441 | R28: 297 | S28: 738 | T28: 868 | U28: 121 | V28: 989 | W28: 14 | X28: 13 | Y28: 27 | Z28: 34 | AA28: 25 | AB28: 59 | AC28: 17 | AD28: 16 | AE28: 33 | AF28: 5 | AG28: 1 | AH28: 6 | AI28: 8 | AJ28: 11 | AK28: 19 | AL28: 1 | AM28: 6 | AN28: 7 | AO28: 4 | AP28: 2 | AQ28: 6 | AR28: 13 | AS28: 16 | AT28: 29 | AU28: 8446 | AV28: =SUM(AU28:AU126) -> 2421265
A29: 19 | B29: 618 | C29: 372 | D29: 990 | E29: 337 | F29: 156 | G29: 493 | H29: 274 | I29: 198 | J29: 472 | K29: 26 | L29: 4 | M29: 30 | N29: 3146 | O29: 1814 | P29: 4960 | Q29: 407 | R29: 286 | S29: 693 | T29: 871 | U29: 148 | V29: 1019 | W29: 24 | X29: 30 | Y29: 54 | Z29: 38 | AA29: 21 | AB29: 59 | AC29: 28 | AD29: 14 | AE29: 42 | AF29: 1 | AG29: 3 | AH29: 4 | AI29: 7 | AJ29: 12 | AK29: 19 | AL29: 3 | AM29: 6 | AN29: 9 | AO29: 1 | AP29: 3 | AQ29: 4 | AR29: 16 | AS29: 17 | AT29: 33 | AU29: 8881
A30: 20 | B30: 688 | C30: 419 | D30: 1107 | E30: 351 | F30: 171 | G30: 522 | H30: 253 | I30: 210 | J30: 463 | K30: 23 | L30: 13 | M30: 36 | N30: 3269 | O30: 1776 | P30: 5045 | Q30: 362 | R30: 235 | S30: 597 | T30: 770 | U30: 122 | V30: 892 | W30: 46 | X30: 40 | Y30: 86 | Z30: 41 | AA30: 27 | AB30: 68 | AC30: 13 | AD30: 11 | AE30: 24 | AF30: 4 | AG30: 4 | AH30: 8 | AI30: 6 | AJ30: 8 | AK30: 14 | AL30: 4 | AM30: 6 | AN30: 10 | AO30: 3 | AP30: 2 | AQ30: 5 | AR30: 25 | AS30: 10 | AT30: 35 | AU30: 8912
A31: 21 | B31: 796 | C31: 433 | D31: 1229 | E31: 389 | F31: 185 | G31: 574 | H31: 273 | I31: 242 | J31: 515 | K31: 27 | L31: 10 | M31: 37 | N31: 3100 | O31: 1685 | P31: 4785 | Q31: 357 | R31: 209 | S31: 566 | T31: 661 | U31: 95 | V31: 756 | W31: 92 | X31: 51 | Y31: 143 | Z31: 59 | AA31: 26 | AB31: 85 | AC31: 20 | AD31: 15 | AE31: 35 | AF31: 3 | AG31: 0 | AH31: 3 | AI31: 6 | AJ31: 5 | AK31: 11 | AL31: 10 | AM31: 3 | AN31: 13 | AO31: 5 | AP31: 1 | AQ31: 6 | AR31: 17 | AS31: 13 | AT31: 30 | AU31: 8788
A32: 22 | B32: 858 | C32: 470 | D32: 1328 | E32: 389 | F32: 204 | G32: 593 | H32: 268 | I32: 212 | J32: 480 | K32: 28 | L32: 17 | M32: 45 | N32: 3039 | O32: 1713 | P32: 4752 | Q32: 378 | R32: 226 | S32: 604 | T32: 653 | U32: 82 | V32: 735 | W32: 83 | X32: 84 | Y32: 167 | Z32: 51 | AA32: 37 | AB32: 88 | AC32: 20 | AD32: 13 | AE32: 33 | AF32: 3 | AG32: 3 | AH32: 6 | AI32: 9 | AJ32: 7 | AK32: 16 | AL32: 7 | AM32: 5 | AN32: 12 | AO32: 9 | AP32: 2 | AQ32: 11 | AR32: 21 | AS32: 16 | AT32: 37 | AU32: 8907
A33: 23 | B33: 1043 | C33: 502 | D33: 1545 | E33: 437 | F33: 190 | G33: 627 | H33: 289 | I33: 209 | J33: 498 | K33: 36 | L33: 14 | M33: 50 | N33: 2900 | O33: 1544 | P33: 4444 | Q33: 339 | R33: 227 | S33: 566 | T33: 601 | U33: 85 | V33: 686 | W33: 144 | X33: 71 | Y33: 215 | Z33: 77 | AA33: 29 | AB33: 106 | AC33: 19 | AD33: 15 | AE33: 34 | AF33: 4 | AG33: 2 | AH33: 6 | AI33: 5 | AJ33: 3 | AK33: 8 | AL33: 7 | AM33: 6 | AN33: 13 | AO33: 6 | AP33: 3 | AQ33: 9 | AR33: 23 | AS33: 24 | AT33: 47 | AU33: 8854
A34: 24 | B34: 1106 | C34: 440 | D34: 1546 | E34: 431 | F34: 187 | G34: 618 | H34: 256 | I34: 200 | J34: 456 | K34: 40 | L34: 15 | M34: 55 | N34: 2634 | O34: 1390 | P34: 4024 | Q34: 350 | R34: 177 | S34: 527 | T34: 521 | U34: 75 | V34: 596 | W34: 154 | X34: 95 | Y34: 249 | Z34: 70 | AA34: 40 | AB34: 110 | AC34: 14 | AD34: 10 | AE34: 24 | AF34: 2 | AG34: 3 | AH34: 5 | AI34: 4 | AJ34: 6 | AK34: 10 | AL34: 12 | AM34: 2 | AN34: 14 | AO34: 4 | AP34: 3 | AQ34: 7 | AR34: 29 | AS34: 15 | AT34: 44 | AU34: 8285
A35: 25 | B35: 1297 | C35: 518 | D35: 1815 | E35: 484 | F35: 178 | G35: 662 | H35: 229 | I35: 226 | J35: 455 | K35: 38 | L35: 13 | M35: 51 | N35: 2546 | O35: 1360 | P35: 3906 | Q35: 364 | R35: 202 | S35: 566 | T35: 454 | U35: 82 | V35: 536 | W35: 176 | X35: 118 | Y35: 294 | Z35: 79 | AA35: 46 | AB35: 125 | AC35: 10 | AD35: 12 | AE35: 22 | AF35: 2 | AG35: 1 | AH35: 3 | AI35: 4 | AJ35: 7 | AK35: 11 | AL35: 9 | AM35: 4 | AN35: 13 | AO35: 6 | AP35: 1 | AQ35: 7 | AR35: 21 | AS35: 11 | AT35: 32 | AU35: 8498
A36: 26 | B36: 1514 | C36: 545 | D36: 2059 | E36: 515 | F36: 206 | G36: 721 | H36: 232 | I36: 223 | J36: 455 | K36: 34 | L36: 16 | M36: 50 | N36: 2482 | O36: 1389 | P36: 3871 | Q36: 357 | R36: 220 | S36: 577 | T36: 438 | U36: 49 | V36: 487 | W36: 190 | X36: 119 | Y36: 309 | Z36: 86 | AA36: 49 | AB36: 135 | AC36: 17 | AD36: 19 | AE36: 36 | AF36: 3 | AG36: 8 | AH36: 11 | AI36: 6 | AJ36: 5 | AK36: 11 | AL36: 11 | AM36: 8 | AN36: 19 | AO36: 4 | AP36: 5 | AQ36: 9 | AR36: 23 | AS36: 15 | AT36: 38 | AU36: 8788
A37: 27 | B37: 1786 | C37: 587 | D37: 2373 | E37: 546 | F37: 207 | G37: 753 | H37: 270 | I37: 224 | J37: 494 | K37: 55 | L37: 15 | M37: 70 | N37: 2312 | O37: 1339 | P37: 3651 | Q37: 388 | R37: 195 | S37: 583 | T37: 308 | U37: 46 | V37: 354 | W37: 195 | X37: 150 | Y37: 345 | Z37: 69 | AA37: 70 | AB37: 139 | AC37: 20 | AD37: 11 | AE37: 31 | AF37: 4 | AG37: 4 | AH37: 8 | AI37: 9 | AJ37: 6 | AK37: 15 | AL37: 10 | AM37: 11 | AN37: 21 | AO37: 5 | AP37: 7 | AQ37: 12 | AR37: 23 | AS37: 23 | AT37: 46 | AU37: 8895
A38: 28 | B38: 2116 | C38: 647 | D38: 2763 | E38: 671 | F38: 241 | G38: 912 | H38: 284 | I38: 220 | J38: 504 | K38: 49 | L38: 17 | M38: 66 | N38: 2283 | O38: 1279 | P38: 3562 | Q38: 408 | R38: 224 | S38: 632 | T38: 221 | U38: 35 | V38: 256 | W38: 247 | X38: 171 | Y38: 418 | Z38: 108 | AA38: 75 | AB38: 183 | AC38: 15 | AD38: 7 | AE38: 22 | AF38: 2 | AG38: 2 | AH38: 4 | AI38: 8 | AJ38: 3 | AK38: 11 | AL38: 16 | AM38: 9 | AN38: 25 | AO38: 8 | AP38: 2 | AQ38: 10 | AR38: 29 | AS38: 21 | AT38: 50 | AU38: 9418
A39: 29 | B39: 2412 | C39: 778 | D39: 3190 | E39: 709 | F39: 263 | G39: 972 | H39: 294 | I39: 192 | J39: 486 | K39: 61 | L39: 29 | M39: 90 | N39: 2062 | O39: 1311 | P39: 3373 | Q39: 424 | R39: 215 | S39: 639 | T39: 160 | U39: 32 | V39: 192 | W39: 285 | X39: 237 | Y39: 522 | Z39: 111 | AA39: 80 | AB39: 191 | AC39: 17 | AD39: 14 | AE39: 31 | AF39: 6 | AG39: 5 | AH39: 11 | AI39: 8 | AJ39: 10 | AK39: 18 | AL39: 22 | AM39: 4 | AN39: 26 | AO39: 6 | AP39: 6 | AQ39: 12 | AR39: 52 | AS39: 19 | AT39: 71 | AU39: 9824
A40: 30 | B40: 2810 | C40: 817 | D40: 3627 | E40: 792 | F40: 307 | G40: 1099 | H40: 337 | I40: 240 | J40: 577 | K40: 76 | L40: 30 | M40: 106 | N40: 2002 | O40: 1251 | P40: 3253 | Q40: 487 | R40: 241 | S40: 728 | T40: 119 | U40: 24 | V40: 143 | W40: 311 | X40: 232 | Y40: 543 | Z40: 131 | AA40: 91 | AB40: 222 | AC40: 12 | AD40: 11 | AE40: 23 | AF40: 3 | AG40: 3 | AH40: 6 | AI40: 10 | AJ40: 9 | AK40: 19 | AL40: 20 | AM40: 15 | AN40: 35 | AO40: 9 | AP40: 7 | AQ40: 16 | AR40: 40 | AS40: 33 | AT40: 73 | AU40: 10470
... A125: 117 | B125: 0 | C125: 1 | D125: 1 | E125: 0 | F125: 0 | G125: 0 | H125: 0 | I125: 0 | J125: 0 | K125: 0 | L125: 0 | M125: 0 | N125: 0 | O125: 0 | P125: 0 | Q125: 0 | R125: 0 | S125: 0 | T125: 0 | U125: 0 | V125: 0 | W125: 0 | X125: 0 | Y125: 0 | Z125: 0 | AA125: 0 | AB125: 0 | AC125: 0 | AD125: 0 | AE125: 0 | AF125: 0 | AG125: 0 | AH125: 0 | AI125: 0 | AJ125: 0 | AK125: 0 | AL125: 0 | AM125: 0 | AN125: 0 | AO125: 0 | AP125: 0 | AQ125: 0 | AR125: 0 | AS125: 0 | AT125: 0 | AU125: 1
A126: 해당없음 | B126: 0 | C126: 0 | D126: 0 | E126: 0 | F126: 0 | G126: 0 | H126: 0 | I126: 1 | J126: 1 | K126: 0 | L126: 0 | M126: 0 | N126: 0 | O126: 0 | P126: 0 | Q126: 0 | R126: 0 | S126: 0 | T126: 0 | U126: 0 | V126: 0 | W126: 0 | X126: 0 | Y126: 0 | Z126: 0 | AA126: 0 | AB126: 0 | AC126: 0 | AD126: 0 | AE126: 0 | AF126: 0 | AG126: 0 | AH126: 0 | AI126: 0 | AJ126: 0 | AK126: 0 | AL126: 0 | AM126: 0 | AN126: 0 | AO126: 0 | AP126: 0 | AQ126: 0 | AR126: 0 | AS126: 0 | AT126: 0 | AU126: 1
B127: =SUM(B28:B126) -> 746630 | C127: =SUM(C28:C126) -> 544622 | D127: =SUM(D28:D126) -> 1291252 | E127: =SUM(E28:E126) -> 149130 | F127: =SUM(F28:F126) -> 100777 | G127: =SUM(G28:G126) -> 249907 | H127: =SUM(H28:H126) -> 135995 | I127: =SUM(I28:I126) -> 112434 | ... AU127: =SUM(AU28:AU126) -> 2421265
A130: 출력일자 : 2015-4-2 15:7:42 출력자 : 방희정 출력부서 : 대전광역시 서구 복수동
